Workbook

Sheet Calendar
B2: Year | C2: 2027 | E2: Grid starts on | F2: =DATE($C$2,$C$3,1)-WEEKDAY(DATE($C$2,$C$3,1))+1 -> 46383
B3: Month (1–12) | C3: 1
B5: =TEXT(DATE($C$2,$C$3,1),"mmmm yyyy") -> January 2027
B7: Sunday | C7: Monday | D7: Tuesday | E7: Wednesday | F7: Thursday | G7: Friday | H7: Saturday | J7: How to use
B8: =IF(MONTH($F$2+0)=$C$3,DAY($F$2+0),"") | C8: =IF(MONTH($F$2+1)=$C$3,DAY($F$2+1),"") | D8: =IF(MONTH($F$2+2)=$C$3,DAY($F$2+2),"") | E8: =IF(MONTH($F$2+3)=$C$3,DAY($F$2+3),"") | F8: =IF(MONTH($F$2+4)=$C$3,DAY($F$2+4),"") | G8: =IF(MONTH($F$2+5)=$C$3,DAY($F$2+5),"") -> 1 | H8: =IF(MONTH($F$2+6)=$C$3,DAY($F$2+6),"") -> 2 | J8: Yellow cells are the only ones to edit.
B9: =IF(MONTH($F$2+0)=$C$3,IFERROR(INDEX(Holidays!$B$2:$B$500,MATCH($F$2+0,Holidays!$A$2:$A$500,0)),""),"") | C9: =IF(MONTH($F$2+1)=$C$3,IFERROR(INDEX(Holidays!$B$2:$B$500,MATCH($F$2+1,Holidays!$A$2:$A$500,0)),""),"") | D9: =IF(MONTH($F$2+2)=$C$3,IFERROR(INDEX(Holidays!$B$2:$B$500,MATCH($F$2+2,Holidays!$A$2:$A$500,0)),""),"") | E9: =IF(MONTH($F$2+3)=$C$3,IFERROR(INDEX(Holidays!$B$2:$B$500,MATCH($F$2+3,Holidays!$A$2:$A$500,0)),""),"") | F9: =IF(MONTH($F$2+4)=$C$3,IFERROR(INDEX(Holidays!$B$2:$B$500,MATCH($F$2+4,Holidays!$A$2:$A$500,0)),""),"") | G9: =IF(MONTH($F$2+5)=$C$3,IFERROR(INDEX(Holidays!$B$2:$B$500,MATCH($F$2+5,Holidays!$A$2:$A$500,0)),""),"") -> New Year's Day | H9: =IF(MONTH($F$2+6)=$C$3,IFERROR(INDEX(Holidays!$B$2:$B$500,MATCH($F$2+6,Holidays!$A$2:$A$500,0)),""),"") | J9: C2: type the year (example: 2027).
B10: =IF(MONTH($F$2+7)=$C$3,DAY($F$2+7),"") -> 3 | C10: =IF(MONTH($F$2+8)=$C$3,DAY($F$2+8),"") -> 4 | D10: =IF(MONTH($F$2+9)=$C$3,DAY($F$2+9),"") -> 5 | E10: =IF(MONTH($F$2+10)=$C$3,DAY($F$2+10),"") -> 6 | F10: =IF(MONTH($F$2+11)=$C$3,DAY($F$2+11),"") -> 7 | G10: =IF(MONTH($F$2+12)=$C$3,DAY($F$2+12),"") -> 8 | H10: =IF(MONTH($F$2+13)=$C$3,DAY($F$2+13),"") -> 9 | J10: C3: type the month number (example: 1 for January).
B11: =IF(MONTH($F$2+7)=$C$3,IFERROR(INDEX(Holidays!$B$2:$B$500,MATCH($F$2+7,Holidays!$A$2:$A$500,0)),""),"") | C11: =IF(MONTH($F$2+8)=$C$3,IFERROR(INDEX(Holidays!$B$2:$B$500,MATCH($F$2+8,Holidays!$A$2:$A$500,0)),""),"") | D11: =IF(MONTH($F$2+9)=$C$3,IFERROR(INDEX(Holidays!$B$2:$B$500,MATCH($F$2+9,Holidays!$A$2:$A$500,0)),""),"") | E11: =IF(MONTH($F$2+10)=$C$3,IFERROR(INDEX(Holidays!$B$2:$B$500,MATCH($F$2+10,Holidays!$A$2:$A$500,0)),""),"") | F11: =IF(MONTH($F$2+11)=$C$3,IFERROR(INDEX(Holidays!$B$2:$B$500,MATCH($F$2+11,Holidays!$A$2:$A$500,0)),""),"") | G11: =IF(MONTH($F$2+12)=$C$3,IFERROR(INDEX(Holidays!$B$2:$B$500,MATCH($F$2+12,Holidays!$A$2:$A$500,0)),""),"") | H11: =IF(MONTH($F$2+13)=$C$3,IFERROR(INDEX(Holidays!$B$2:$B$500,MATCH($F$2+13,Holidays!$A$2:$A$500,0)),""),"") | J11: The grid, title and holidays update by themselves.
B12: =IF(MONTH($F$2+14)=$C$3,DAY($F$2+14),"") -> 10 | C12: =IF(MONTH($F$2+15)=$C$3,DAY($F$2+15),"") -> 11 | D12: =IF(MONTH($F$2+16)=$C$3,DAY($F$2+16),"") -> 12 | E12: =IF(MONTH($F$2+17)=$C$3,DAY($F$2+17),"") -> 13 | F12: =IF(MONTH($F$2+18)=$C$3,DAY($F$2+18),"") -> 14 | G12: =IF(MONTH($F$2+19)=$C$3,DAY($F$2+19),"") -> 15 | H12: =IF(MONTH($F$2+20)=$C$3,DAY($F$2+20),"") -> 16 | J12: Write your own plans in the box under each date.
B13: =IF(MONTH($F$2+14)=$C$3,IFERROR(INDEX(Holidays!$B$2:$B$500,MATCH($F$2+14,Holidays!$A$2:$A$500,0)),""),"") | C13: =IF(MONTH($F$2+15)=$C$3,IFERROR(INDEX(Holidays!$B$2:$B$500,MATCH($F$2+15,Holidays!$A$2:$A$500,0)),""),"") | D13: =IF(MONTH($F$2+16)=$C$3,IFERROR(INDEX(Holidays!$B$2:$B$500,MATCH($F$2+16,Holidays!$A$2:$A$500,0)),""),"") | E13: =IF(MONTH($F$2+17)=$C$3,IFERROR(INDEX(Holidays!$B$2:$B$500,MATCH($F$2+17,Holidays!$A$2:$A$500,0)),""),"") -> Lohri | F13: =IF(MONTH($F$2+18)=$C$3,IFERROR(INDEX(Holidays!$B$2:$B$500,MATCH($F$2+18,Holidays!$A$2:$A$500,0)),""),"") -> Makar Sankranti / Magh Bihu | G13: =IF(MONTH($F$2+19)=$C$3,IFERROR(INDEX(Holidays!$B$2:$B$500,MATCH($F$2+19,Holidays!$A$2:$A$500,0)),""),"") -> Pongal / Guru Gobind Singh Jayanti | H13: =IF(MONTH($F$2+20)=$C$3,IFERROR(INDEX(Holidays!$B$2:$B$500,MATCH($F$2+20,Holidays!$A$2:$A$500,0)),""),"") | J13: Holidays come from the Holidays sheet (India, 2026–2027);
B14: =IF(MONTH($F$2+21)=$C$3,DAY($F$2+21),"") -> 17 | C14: =IF(MONTH($F$2+22)=$C$3,DAY($F$2+22),"") -> 18 | D14: =IF(MONTH($F$2+23)=$C$3,DAY($F$2+23),"") -> 19 | E14: =IF(MONTH($F$2+24)=$C$3,DAY($F$2+24),"") -> 20 | F14: =IF(MONTH($F$2+25)=$C$3,DAY($F$2+25),"") -> 21 | G14: =IF(MONTH($F$2+26)=$C$3,DAY($F$2+26),"") -> 22 | H14: =IF(MONTH($F$2+27)=$C$3,DAY($F$2+27),"") -> 23 | J14: add rows there for birthdays or local holidays.
B15: =IF(MONTH($F$2+21)=$C$3,IFERROR(INDEX(Holidays!$B$2:$B$500,MATCH($F$2+21,Holidays!$A$2:$A$500,0)),""),"") | C15: =IF(MONTH($F$2+22)=$C$3,IFERROR(INDEX(Holidays!$B$2:$B$500,MATCH($F$2+22,Holidays!$A$2:$A$500,0)),""),"") | D15: =IF(MONTH($F$2+23)=$C$3,IFERROR(INDEX(Holidays!$B$2:$B$500,MATCH($F$2+23,Holidays!$A$2:$A$500,0)),""),"") | E15: =IF(MONTH($F$2+24)=$C$3,IFERROR(INDEX(Holidays!$B$2:$B$500,MATCH($F$2+24,Holidays!$A$2:$A$500,0)),""),"") | F15: =IF(MONTH($F$2+25)=$C$3,IFERROR(INDEX(Holidays!$B$2:$B$500,MATCH($F$2+25,Holidays!$A$2:$A$500,0)),""),"") | G15: =IF(MONTH($F$2+26)=$C$3,IFERROR(INDEX(Holidays!$B$2:$B$500,MATCH($F$2+26,Holidays!$A$2:$A$500,0)),""),"") -> Thaipusam | H15: =IF(MONTH($F$2+27)=$C$3,IFERROR(INDEX(Holidays!$B$2:$B$500,MATCH($F$2+27,Holidays!$A$2:$A$500,0)),""),"") | J15: Print: landscape, fit to one page (already set).
B16: =IF(MONTH($F$2+28)=$C$3,DAY($F$2+28),"") -> 24 | C16: =IF(MONTH($F$2+29)=$C$3,DAY($F$2+29),"") -> 25 | D16: =IF(MONTH($F$2+30)=$C$3,DAY($F$2+30),"") -> 26 | E16: =IF(MONTH($F$2+31)=$C$3,DAY($F$2+31),"") -> 27 | F16: =IF(MONTH($F$2+32)=$C$3,DAY($F$2+32),"") -> 28 | G16: =IF(MONTH($F$2+33)=$C$3,DAY($F$2+33),"") -> 29 | H16: =IF(MONTH($F$2+34)=$C$3,DAY($F$2+34),"") -> 30 | J16: Free template from monthlycalendar.in
B17: =IF(MONTH($F$2+28)=$C$3,IFERROR(INDEX(Holidays!$B$2:$B$500,MATCH($F$2+28,Holidays!$A$2:$A$500,0)),""),"") | C17: =IF(MONTH($F$2+29)=$C$3,IFERROR(INDEX(Holidays!$B$2:$B$500,MATCH($F$2+29,Holidays!$A$2:$A$500,0)),""),"") | D17: =IF(MONTH($F$2+30)=$C$3,IFERROR(INDEX(Holidays!$B$2:$B$500,MATCH($F$2+30,Holidays!$A$2:$A$500,0)),""),"") -> Republic Day | E17: =IF(MONTH($F$2+31)=$C$3,IFERROR(INDEX(Holidays!$B$2:$B$500,MATCH($F$2+31,Holidays!$A$2:$A$500,0)),""),"") | F17: =IF(MONTH($F$2+32)=$C$3,IFERROR(INDEX(Holidays!$B$2:$B$500,MATCH($F$2+32,Holidays!$A$2:$A$500,0)),""),"") | G17: =IF(MONTH($F$2+33)=$C$3,IFERROR(INDEX(Holidays!$B$2:$B$500,MATCH($F$2+33,Holidays!$A$2:$A$500,0)),""),"") | H17: =IF(MONTH($F$2+34)=$C$3,IFERROR(INDEX(Holidays!$B$2:$B$500,MATCH($F$2+34,Holidays!$A$2:$A$500,0)),""),"")
B18: =IF(MONTH($F$2+35)=$C$3,DAY($F$2+35),"") -> 31 | C18: =IF(MONTH($F$2+36)=$C$3,DAY($F$2+36),"") | D18: =IF(MONTH($F$2+37)=$C$3,DAY($F$2+37),"") | E18: =IF(MONTH($F$2+38)=$C$3,DAY($F$2+38),"") | F18: =IF(MONTH($F$2+39)=$C$3,DAY($F$2+39),"") | G18: =IF(MONTH($F$2+40)=$C$3,DAY($F$2+40),"") | H18: =IF(MONTH($F$2+41)=$C$3,DAY($F$2+41),"")
B19: =IF(MONTH($F$2+35)=$C$3,IFERROR(INDEX(Holidays!$B$2:$B$500,MATCH($F$2+35,Holidays!$A$2:$A$500,0)),""),"") | C19: =IF(MONTH($F$2+36)=$C$3,IFERROR(INDEX(Holidays!$B$2:$B$500,MATCH($F$2+36,Holidays!$A$2:$A$500,0)),""),"") | D19: =IF(MONTH($F$2+37)=$C$3,IFERROR(INDEX(Holidays!$B$2:$B$500,MATCH($F$2+37,Holidays!$A$2:$A$500,0)),""),"") | E19: =IF(MONTH($F$2+38)=$C$3,IFERROR(INDEX(Holidays!$B$2:$B$500,MATCH($F$2+38,Holidays!$A$2:$A$500,0)),""),"") | F19: =IF(MONTH($F$2+39)=$C$3,IFERROR(INDEX(Holidays!$B$2:$B$500,MATCH($F$2+39,Holidays!$A$2:$A$500,0)),""),"") | G19: =IF(MONTH($F$2+40)=$C$3,IFERROR(INDEX(Holidays!$B$2:$B$500,MATCH($F$2+40,Holidays!$A$2:$A$500,0)),""),"") | H19: =IF(MONTH($F$2+41)=$C$3,IFERROR(INDEX(Holidays!$B$2:$B$500,MATCH($F$2+41,Holidays!$A$2:$A$500,0)),""),"")

Sheet Holidays
A1: Date | B1: Holiday or festival | C1: Type
A2: 46023 | B2: New Year's Day | C2: observance
A3: 46035 | B3: Lohri | C3: regional
A4: 46036 | B4: Makar Sankranti / Bhogi | C4: festival
A5: 46037 | B5: Thai Pongal | C5: regional
A6: 46045 | B6: Vasant Panchami | C6: festival
A7: 46048 | B7: Republic Day | C7: gazetted
A8: 46068 | B8: Maha Shivaratri | C8: festival
A9: 46072 | B9: Chhatrapati Shivaji Maharaj Jayanti | C9: regional
A10: 46084 | B10: Holika Dahan | C10: festival
A11: 46085 | B11: Holi | C11: gazetted
A12: 46100 | B12: Ugadi / Gudi Padwa | C12: regional
A13: 46102 | B13: Eid al-Fitr | C13: gazetted
... A117: 46752 | B117: New Year's Eve | C117: observance
A119: Source: DoPT gazetted and restricted holiday lists for 2026–2027 and published panchangs, as used on monthlycalendar.in. Lunar and Islamic dates can shift by a day.
